BEGIN:VCALENDAR
VERSION:2.0
PRODID:icalendar-ruby
CALSCALE:GREGORIAN
BEGIN:VEVENT
DTSTAMP:20260420T123306Z
UID:ee570065-4942-4a00-92c4-e9700dda3961
DTSTART;TZID=Pacific/Auckland:20260426T121500
DTEND;TZID=Pacific/Auckland:20260426T124500
DESCRIPTION:Property ID# 604987
SUMMARY:Openhome for 10 Winspear Place
END:VEVENT
END:VCALENDAR
