BEGIN:VCALENDAR
VERSION:2.0
PRODID:icalendar-ruby
CALSCALE:GREGORIAN
BEGIN:VEVENT
DTSTAMP:20260426T024510Z
UID:34b826ff-fbaf-4c3a-95e4-1c242e1bf8a8
DTSTART;VALUE=DATE:20220615
DESCRIPTION:Property ID# 535429\, Time: 1:00PM
SUMMARY:Auction for 
END:VEVENT
END:VCALENDAR
