BEGIN:VCALENDAR
VERSION:2.0
PRODID:icalendar-ruby
CALSCALE:GREGORIAN
BEGIN:VEVENT
DTSTAMP:20210119T034600Z
UID:339b1cec-3606-4229-82d0-f36b022a01fc
DTSTART;TZID=Pacific/Auckland:20210117T120000
DTEND;TZID=Pacific/Auckland:20210117T124500
DESCRIPTION:Property ID# 499523
SUMMARY:Openhome for 15 Penelope Place
END:VEVENT
END:VCALENDAR
