BEGIN:VCALENDAR
VERSION:2.0
PRODID:icalendar-ruby
CALSCALE:GREGORIAN
BEGIN:VEVENT
DTSTAMP:20210119T034601Z
UID:12737b35-6ff8-4252-b5b1-703ddccc77fc
DTSTART;VALUE=DATE:20210218
DESCRIPTION:Property ID# 499523\, Locatoin: 247 Cameron Road\, Tauranga\, T
 ime: 12:00PM
SUMMARY:Auction for 15 Penelope Place
END:VEVENT
END:VCALENDAR
