BEGIN:VCALENDAR
VERSION:2.0
PRODID:icalendar-ruby
CALSCALE:GREGORIAN
BEGIN:VEVENT
DTSTAMP:20210119T034605Z
UID:83818b39-1180-43ee-a246-f3df90b74662
DTSTART;VALUE=DATE:20210204
DESCRIPTION:Property ID# 499086\, Locatoin: Ray White Auction Rooms\, 12 Gi
 rven Road\, Mt Maunganui\, Time: 1:00PM
SUMMARY:Auction for 7a Donovan Street
END:VEVENT
END:VCALENDAR
