BEGIN:VCALENDAR
VERSION:2.0
PRODID:icalendar-ruby
CALSCALE:GREGORIAN
BEGIN:VEVENT
DTSTAMP:20210119T034609Z
UID:bc4cfc72-9bc6-4baa-a219-dae8ee0ce43e
DTSTART;VALUE=DATE:20210120
DESCRIPTION:Property ID# 498691\, Locatoin: In rooms at Tremains Tauranga (
 unless sold prior)\, Time: 12:00PM
SUMMARY:Auction for 1 Bayview Court
END:VEVENT
END:VCALENDAR
