BEGIN:VCALENDAR
VERSION:2.0
PRODID:icalendar-ruby
CALSCALE:GREGORIAN
BEGIN:VEVENT
DTSTAMP:20210119T034615Z
UID:f22fafa3-4a73-4a85-96a1-dc74d1e203e3
DTSTART;VALUE=DATE:20210127
DESCRIPTION:Property ID# 497813\, Locatoin: Tremains Tauranga 409 Cameron R
 d\, Tauranga\, Time: 1:00PM
SUMMARY:Auction for 149 Wilson Road
END:VEVENT
END:VCALENDAR
